BEGIN:VCALENDAR
VERSION:2.0
PRODID:-//abeton - ECPv5.2.1.1//NONSGML v1.0//EN
CALSCALE:GREGORIAN
METHOD:PUBLISH
X-WR-CALNAME:abeton
X-ORIGINAL-URL:https://www.abeton.hu
X-WR-CALDESC:Events for abeton
BEGIN:VTIMEZONE
TZID:Europe/Budapest
BEGIN:DAYLIGHT
TZOFFSETFROM:+0100
TZOFFSETTO:+0200
TZNAME:CEST
DTSTART:20260329T010000
END:DAYLIGHT
BEGIN:STANDARD
TZOFFSETFROM:+0200
TZOFFSETTO:+0100
TZNAME:CET
DTSTART:20261025T010000
END:STANDARD
END:VTIMEZONE
BEGIN:VEVENT
DTSTART;TZID=Europe/Budapest:20260413T153000
DTEND;TZID=Europe/Budapest:20260413T183000
DTSTAMP:20260424T104006
CREATED:20260407T133157Z
LAST-MODIFIED:20260407T133157Z
UID:14142-1776094200-1776105000@www.abeton.hu
SUMMARY:A2 - Élő Martin
DESCRIPTION:
URL:https://www.abeton.hu/index.php/event/a2-elo-martin-50/
END:VEVENT
END:VCALENDAR