BEGIN:VCALENDAR
VERSION:2.0
PRODID:-//abeton - ECPv5.2.1.1//NONSGML v1.0//EN
CALSCALE:GREGORIAN
METHOD:PUBLISH
X-WR-CALNAME:abeton
X-ORIGINAL-URL:https://www.abeton.hu
X-WR-CALDESC:Events for abeton
BEGIN:VTIMEZONE
TZID:Europe/Budapest
BEGIN:DAYLIGHT
TZOFFSETFROM:+0100
TZOFFSETTO:+0200
TZNAME:CEST
DTSTART:20260329T010000
END:DAYLIGHT
BEGIN:STANDARD
TZOFFSETFROM:+0200
TZOFFSETTO:+0100
TZNAME:CET
DTSTART:20261025T010000
END:STANDARD
END:VTIMEZONE
BEGIN:VEVENT
DTSTART;TZID=Europe/Budapest:20260501T080000
DTEND;TZID=Europe/Budapest:20260501T180000
DTSTAMP:20260422T183830
CREATED:20260406T155318Z
LAST-MODIFIED:20260406T155318Z
UID:14140-1777622400-1777658400@www.abeton.hu
SUMMARY:A4 - Horváth-Kitley Balázs
DESCRIPTION:
URL:https://www.abeton.hu/index.php/event/a4-horvath-kitley-balazs-15/
END:VEVENT
END:VCALENDAR