BEGIN:VCALENDAR
VERSION:2.0
PRODID:-//abeton - ECPv5.2.1.1//NONSGML v1.0//EN
CALSCALE:GREGORIAN
METHOD:PUBLISH
X-WR-CALNAME:abeton
X-ORIGINAL-URL:https://www.abeton.hu
X-WR-CALDESC:Events for abeton
BEGIN:VTIMEZONE
TZID:Europe/Budapest
BEGIN:DAYLIGHT
TZOFFSETFROM:+0100
TZOFFSETTO:+0200
TZNAME:CEST
DTSTART:20260329T010000
END:DAYLIGHT
BEGIN:STANDARD
TZOFFSETFROM:+0200
TZOFFSETTO:+0100
TZNAME:CET
DTSTART:20261025T010000
END:STANDARD
END:VTIMEZONE
BEGIN:VEVENT
DTSTART;TZID=Europe/Budapest:20260416T134500
DTEND;TZID=Europe/Budapest:20260416T180000
DTSTAMP:20260422T183402
CREATED:20260415T192725Z
LAST-MODIFIED:20260415T192725Z
UID:14151-1776347100-1776362400@www.abeton.hu
SUMMARY:A4 - Horváth-Kitley Balázs
DESCRIPTION:
URL:https://www.abeton.hu/index.php/event/a4-horvath-kitley-balazs-18/
END:VEVENT
BEGIN:VEVENT
DTSTART;TZID=Europe/Budapest:20260416T151500
DTEND;TZID=Europe/Budapest:20260416T164500
DTSTAMP:20260422T183402
CREATED:20260407T133516Z
LAST-MODIFIED:20260407T133516Z
UID:14143-1776352500-1776357900@www.abeton.hu
SUMMARY:A2 - Élő Martin
DESCRIPTION:
URL:https://www.abeton.hu/index.php/event/a2-elo-martin-51/
END:VEVENT
END:VCALENDAR