BEGIN:VCALENDAR
VERSION:2.0
PRODID:-//abeton - ECPv5.2.1.1//NONSGML v1.0//EN
CALSCALE:GREGORIAN
METHOD:PUBLISH
X-WR-CALNAME:abeton
X-ORIGINAL-URL:https://www.abeton.hu
X-WR-CALDESC:Events for abeton
BEGIN:VTIMEZONE
TZID:Europe/Budapest
BEGIN:DAYLIGHT
TZOFFSETFROM:+0100
TZOFFSETTO:+0200
TZNAME:CEST
DTSTART:20260329T010000
END:DAYLIGHT
BEGIN:STANDARD
TZOFFSETFROM:+0200
TZOFFSETTO:+0100
TZNAME:CET
DTSTART:20261025T010000
END:STANDARD
END:VTIMEZONE
BEGIN:VEVENT
DTSTART;TZID=Europe/Budapest:20260422T140000
DTEND;TZID=Europe/Budapest:20260422T180000
DTSTAMP:20260422T140859
CREATED:20260422T093802Z
LAST-MODIFIED:20260422T093802Z
UID:14156-1776866400-1776880800@www.abeton.hu
SUMMARY:A4 - Horváth-Kitley Balázs
DESCRIPTION:
URL:https://www.abeton.hu/index.php/event/a4-horvath-kitley-balazs-19/
END:VEVENT
BEGIN:VEVENT
DTSTART;TZID=Europe/Budapest:20260422T150000
DTEND;TZID=Europe/Budapest:20260422T170000
DTSTAMP:20260422T140859
CREATED:20260422T054940Z
LAST-MODIFIED:20260422T054940Z
UID:14155-1776870000-1776877200@www.abeton.hu
SUMMARY:B14 - Herold Zoltán
DESCRIPTION:
URL:https://www.abeton.hu/index.php/event/b14-herold-zoltan-10/
END:VEVENT
END:VCALENDAR